

BEGIN:VCALENDAR
VERSION:2.0
PRODID:-//hacksw/handcal//NONSGML v1.0//EN
CALSCALE:GREGORIAN
BEGIN:VEVENT
DTEND:20180829T193000
UID:5c7943050ed3e
DTSTAMP:20190302T013445
LOCATION:Harley House\, 71 Collins Street Melbourne 3000 VIC
DESCRIPTION:The Victorian Branch of WEN invites all WEN members to join us for a conversation with the Hon. Kelly O&rsquo\;Dwyer MP\, Minister for Women and Minister for Jobs and Industrial Relations. This will be a privileged opportunity for WEN members to meet Kelly and discuss her Ministerial roles\, the role of women in the economy\, and initiatives to support women&rsquo\;s economic opportunities. We will also discuss the representation of\, and challenges for\, women in leadership and policy-making.
Venue: Harley House\, 71 Collins Street\, Melbourne (enter via Stachan Lane\, off Exhibition Street)Date: Wednesday 29 August 2018Time: 5:30pm-7:30pm

Food platters will be provided and drinks available at bar prices (visit https://harleyhouse.com.au)
Please note that this event is open to WEN members only. Attendees may be a member of any WEN state/territory branch in Australia. For information on how to join WEN\, please visit our&nbsp\;membership page. &nbsp\;Remember that existing ESA members can join WEN free of charge\, by simply logging into your ESA membership page and choosing the "WEN membership" option. &nbsp\;We hope to see many of you there.































URL;VALUE=URI:http://esawen.org.au/event/35160
SUMMARY:Women in Economics Event: In Conversation with Kelly O'Dwyer MP
DTSTART:20180829T173000
END:VEVENT
END:VCALENDAR

